BEGIN:VCALENDAR
VERSION:2.0
PRODID:-//Tukios.com/
BEGIN:VEVENT
UID:9a2f58b4-0f3f-4737-9dcc-9a5379eeaba7@www.affordablecremationandburial.ca
DTSTAMP:20260422T214834Z
DTSTART:20260521T200000Z
DTEND:20260521T210000Z
SUMMARY:Celebration of Life
DESCRIPTION:
URL:https://www.affordablecremationandburial.ca/obituaries/john-maunsell
LOCATION:Unitarian Church 949 West 49th Avenue  Vancouver BC V5Z 2T1
GEO:49.2268279;-123.1276026
END:VEVENT
END:VCALENDAR